BEGIN:VCALENDAR
VERSION:2.0
PRODID:-//horsealert.local//NONSGML kigkonsult.se iCalcreator 2.10.5//
CALSCALE:GREGORIAN
X-WR-TIMEZONE:Europe/Dublin
BEGIN:VTIMEZONE
TZID:Etc/GMT-1
BEGIN:STANDARD
DTSTART:20010101T000000
TZOFFSETFROM:+0100
TZOFFSETTO:+0100
TZNAME:GMT +01:00
END:STANDARD
END:VTIMEZONE
BEGIN:VEVENT
UID:20260422T044530CEST-82016m1stg@horsealert.local
DTSTAMP:20260422T020430Z
CATEGORIES:Horse Alerts
DESCRIPTION:Congratulations To Brian Hughes From Stobart Chase (Novices' Li
 mited Handicap)
DTSTART:20170427T153500
LOCATION:Scotland
SUMMARY:Horse Racing:Congratulations To Brian Hughes From Stobart Chase (No
 vices' Limited Handicap)
END:VEVENT
END:VCALENDAR
