BEGIN:VCALENDAR
VERSION:2.0
PRODID:-//horsealert.local//NONSGML kigkonsult.se iCalcreator 2.10.5//
CALSCALE:GREGORIAN
X-WR-TIMEZONE:Europe/Dublin
BEGIN:VTIMEZONE
TZID:Etc/GMT-1
BEGIN:STANDARD
DTSTART:20010101T000000
TZOFFSETFROM:+0100
TZOFFSETTO:+0100
TZNAME:GMT +01:00
END:STANDARD
END:VTIMEZONE
BEGIN:VEVENT
UID:20260422T044426CEST-8817DBA2VR@horsealert.local
DTSTAMP:20260422T020426Z
CATEGORIES:Horse Alerts
DESCRIPTION:Bill And Bunny Cadogan Memorial Chase (Novices' Limited Handica
 p)
DTSTART:20170426T164000
LOCATION:Scotland
SUMMARY:Horse Racing:Bill And Bunny Cadogan Memorial Chase (Novices' Limite
 d Handicap)
END:VEVENT
END:VCALENDAR
