BEGIN:VCALENDAR
VERSION:2.0
PRODID:-//horsealert.local//NONSGML kigkonsult.se iCalcreator 2.10.5//
CALSCALE:GREGORIAN
X-WR-TIMEZONE:Europe/Dublin
BEGIN:VTIMEZONE
TZID:Etc/GMT-1
BEGIN:STANDARD
DTSTART:20010101T000000
TZOFFSETFROM:+0100
TZOFFSETTO:+0100
TZNAME:GMT +01:00
END:STANDARD
END:VTIMEZONE
BEGIN:VEVENT
UID:20260422T044530CEST-3531DB2DHI@horsealert.local
DTSTAMP:20260422T020430Z
CATEGORIES:Horse Alerts
DESCRIPTION:At totepoolracing Follow Us On Twitter Classified Stakes
DTSTART:20170425T185500
LOCATION:England
SUMMARY:Horse Racing:At totepoolracing Follow Us On Twitter Classified Stak
 es
END:VEVENT
END:VCALENDAR
