BEGIN:VCALENDAR
VERSION:2.0
PRODID:-//horsealert.local//NONSGML kigkonsult.se iCalcreator 2.10.5//
CALSCALE:GREGORIAN
X-WR-TIMEZONE:Europe/Dublin
BEGIN:VTIMEZONE
TZID:Etc/GMT-1
BEGIN:STANDARD
DTSTART:20010101T000000
TZOFFSETFROM:+0100
TZOFFSETTO:+0100
TZNAME:GMT +01:00
END:STANDARD
END:VTIMEZONE
BEGIN:VEVENT
UID:20260422T044616CEST-5183uurpLc@horsealert.local
DTSTAMP:20260422T020416Z
CATEGORIES:Horse Alerts
DESCRIPTION:Award Winning Art Of Racing Racedays Maiden Stakes
DTSTART:20170424T161000
LOCATION:England
SUMMARY:Horse Racing:Award Winning Art Of Racing Racedays Maiden Stakes
END:VEVENT
END:VCALENDAR
