BEGIN:VCALENDAR
VERSION:2.0
PRODID:-//horsealert.local//NONSGML kigkonsult.se iCalcreator 2.10.5//
CALSCALE:GREGORIAN
X-WR-TIMEZONE:Europe/Dublin
BEGIN:VTIMEZONE
TZID:Etc/GMT-1
BEGIN:STANDARD
DTSTART:20010101T000000
TZOFFSETFROM:+0100
TZOFFSETTO:+0100
TZNAME:GMT +01:00
END:STANDARD
END:VTIMEZONE
BEGIN:VEVENT
UID:20260422T043954CEST-9537WpxB1z@horsealert.local
DTSTAMP:20260422T020454Z
CATEGORIES:Horse Alerts
DESCRIPTION:Michael English Plays Live At Limerick Racecourse July 27th Han
 dicap (45-75)
DTSTART:20170422T160000
LOCATION:Eire
SUMMARY:Horse Racing:Michael English Plays Live At Limerick Racecourse July
  27th Handicap (45-75)
END:VEVENT
END:VCALENDAR
