BEGIN:VCALENDAR
VERSION:2.0
PRODID:-//horsealert.local//NONSGML kigkonsult.se iCalcreator 2.10.5//
CALSCALE:GREGORIAN
X-WR-TIMEZONE:Europe/Dublin
BEGIN:VTIMEZONE
TZID:Etc/GMT-1
BEGIN:STANDARD
DTSTART:20010101T000000
TZOFFSETFROM:+0100
TZOFFSETTO:+0100
TZNAME:GMT +01:00
END:STANDARD
END:VTIMEZONE
BEGIN:VEVENT
UID:20260422T043832CEST-9870mVTo4i@horsealert.local
DTSTAMP:20260422T020432Z
CATEGORIES:Horse Alerts
DESCRIPTION:FCL Global Forwarding Making Logistics Personal Amateur Riders'
  Handicap
DTSTART:20170422T174500
LOCATION:England
SUMMARY:Horse Racing:FCL Global Forwarding Making Logistics Personal Amateu
 r Riders' Handicap
END:VEVENT
END:VCALENDAR
