BEGIN:VCALENDAR
VERSION:2.0
PRODID:-//horsealert.local//NONSGML kigkonsult.se iCalcreator 2.10.5//
CALSCALE:GREGORIAN
X-WR-TIMEZONE:Europe/Dublin
BEGIN:VTIMEZONE
TZID:Etc/GMT-1
BEGIN:STANDARD
DTSTART:20010101T000000
TZOFFSETFROM:+0100
TZOFFSETTO:+0100
TZNAME:GMT +01:00
END:STANDARD
END:VTIMEZONE
BEGIN:VEVENT
UID:20260422T044522CEST-9210Wz6Gvj@horsealert.local
DTSTAMP:20260422T020422Z
CATEGORIES:Horse Alerts
DESCRIPTION:Matt Hampson Foundation & NSIF Silver Trophy Chase (Grade 2 Lim
 ited Handicap)
DTSTART:20170419T144000
LOCATION:England
SUMMARY:Horse Racing:Matt Hampson Foundation & NSIF Silver Trophy Chase (Gr
 ade 2 Limited Handicap)
END:VEVENT
END:VCALENDAR
