BEGIN:VCALENDAR
VERSION:2.0
PRODID:-//horsealert.local//NONSGML kigkonsult.se iCalcreator 2.10.5//
CALSCALE:GREGORIAN
X-WR-TIMEZONE:Europe/Dublin
BEGIN:VTIMEZONE
TZID:Etc/GMT-1
BEGIN:STANDARD
DTSTART:20010101T000000
TZOFFSETFROM:+0100
TZOFFSETTO:+0100
TZNAME:GMT +01:00
END:STANDARD
END:VTIMEZONE
BEGIN:VEVENT
UID:20260422T044755CEST-5368AIWbiZ@horsealert.local
DTSTAMP:20260422T020455Z
CATEGORIES:Horse Alerts
DESCRIPTION:FCL Global Forwarding Making Logistics Personal Maiden Stakes
DTSTART:20170419T184500
LOCATION:England
SUMMARY:Horse Racing:FCL Global Forwarding Making Logistics Personal Maiden
  Stakes
END:VEVENT
END:VCALENDAR
