BEGIN:VCALENDAR
VERSION:2.0
PRODID:-//horsealert.local//NONSGML kigkonsult.se iCalcreator 2.10.5//
CALSCALE:GREGORIAN
X-WR-TIMEZONE:Europe/Dublin
BEGIN:VTIMEZONE
TZID:Etc/GMT-1
BEGIN:STANDARD
DTSTART:20010101T000000
TZOFFSETFROM:+0100
TZOFFSETTO:+0100
TZNAME:GMT +01:00
END:STANDARD
END:VTIMEZONE
BEGIN:VEVENT
UID:20260422T044740CEST-6850Ca16pU@horsealert.local
DTSTAMP:20260422T020440Z
CATEGORIES:Horse Alerts
DESCRIPTION:Flynn Management And Contractors Supporting Ratoath GAA Race Da
 y E.B.F. Beginners Chase
DTSTART:20170418T150000
LOCATION:Eire
SUMMARY:Horse Racing:Flynn Management And Contractors Supporting Ratoath GA
 A Race Day E.B.F. Beginners Chase
END:VEVENT
END:VCALENDAR
