BEGIN:VCALENDAR
VERSION:2.0
PRODID:-//horsealert.local//NONSGML kigkonsult.se iCalcreator 2.10.5//
CALSCALE:GREGORIAN
X-WR-TIMEZONE:Europe/Dublin
BEGIN:VTIMEZONE
TZID:Etc/GMT-1
BEGIN:STANDARD
DTSTART:20010101T000000
TZOFFSETFROM:+0100
TZOFFSETTO:+0100
TZNAME:GMT +01:00
END:STANDARD
END:VTIMEZONE
BEGIN:VEVENT
UID:20260422T044936CEST-5089IezII3@horsealert.local
DTSTAMP:20260422T020436Z
CATEGORIES:Horse Alerts
DESCRIPTION:Hugh James Supporting NSPCC Schools Service 'National Hunt' Nov
 ices' Hurdle
DTSTART:20170417T150500
LOCATION:Wales
SUMMARY:Horse Racing:Hugh James Supporting NSPCC Schools Service 'National 
 Hunt' Novices' Hurdle
END:VEVENT
END:VCALENDAR
