BEGIN:VCALENDAR
VERSION:2.0
PRODID:-//horsealert.local//NONSGML kigkonsult.se iCalcreator 2.10.5//
CALSCALE:GREGORIAN
X-WR-TIMEZONE:Europe/Dublin
BEGIN:VTIMEZONE
TZID:Etc/GMT-1
BEGIN:STANDARD
DTSTART:20010101T000000
TZOFFSETFROM:+0100
TZOFFSETTO:+0100
TZNAME:GMT +01:00
END:STANDARD
END:VTIMEZONE
BEGIN:VEVENT
UID:20260422T044531CEST-9083FC1SGT@horsealert.local
DTSTAMP:20260422T020431Z
CATEGORIES:Horse Alerts
DESCRIPTION:Farmhouse Foods John & Chich Fowler Memorial E.B.F. Mares Chase
  (Grade 3)
DTSTART:20170417T173500
LOCATION:Eire
SUMMARY:Horse Racing:Farmhouse Foods John & Chich Fowler Memorial E.B.F. Ma
 res Chase (Grade 3)
END:VEVENT
END:VCALENDAR
