BEGIN:VCALENDAR
VERSION:2.0
PRODID:-//horsealert.local//NONSGML kigkonsult.se iCalcreator 2.10.5//
CALSCALE:GREGORIAN
X-WR-TIMEZONE:Europe/Dublin
BEGIN:VTIMEZONE
TZID:Etc/GMT-1
BEGIN:STANDARD
DTSTART:20010101T000000
TZOFFSETFROM:+0100
TZOFFSETTO:+0100
TZNAME:GMT +01:00
END:STANDARD
END:VTIMEZONE
BEGIN:VEVENT
UID:20260422T044548CEST-1530j5sVSv@horsealert.local
DTSTAMP:20260422T020448Z
CATEGORIES:Horse Alerts
DESCRIPTION:Watch RacingUK On Virgin 536 Fillies' Conditions Stakes (Plus 1
 0)
DTSTART:20170415T161500
LOCATION:England
SUMMARY:Horse Racing:Watch RacingUK On Virgin 536 Fillies' Conditions Stake
 s (Plus 10)
END:VEVENT
END:VCALENDAR
