BEGIN:VCALENDAR
VERSION:2.0
PRODID:-//horsealert.local//NONSGML kigkonsult.se iCalcreator 2.10.5//
CALSCALE:GREGORIAN
X-WR-TIMEZONE:Europe/Dublin
BEGIN:VTIMEZONE
TZID:Etc/GMT-1
BEGIN:STANDARD
DTSTART:20010101T000000
TZOFFSETFROM:+0100
TZOFFSETTO:+0100
TZNAME:GMT +01:00
END:STANDARD
END:VTIMEZONE
BEGIN:VEVENT
UID:20260422T044739CEST-6989vIB0KF@horsealert.local
DTSTAMP:20260422T020439Z
CATEGORIES:Horse Alerts
DESCRIPTION:Watch RacingUK On Sky 432 Snowdrop Fillies' Stakes (Listed)
DTSTART:20170415T154500
LOCATION:England
SUMMARY:Horse Racing:Watch RacingUK On Sky 432 Snowdrop Fillies' Stakes (Li
 sted)
END:VEVENT
END:VCALENDAR
