BEGIN:VCALENDAR
VERSION:2.0
PRODID:-//horsealert.local//NONSGML kigkonsult.se iCalcreator 2.10.5//
CALSCALE:GREGORIAN
X-WR-TIMEZONE:Europe/Dublin
BEGIN:VTIMEZONE
TZID:Etc/GMT-1
BEGIN:STANDARD
DTSTART:20010101T000000
TZOFFSETFROM:+0100
TZOFFSETTO:+0100
TZNAME:GMT +01:00
END:STANDARD
END:VTIMEZONE
BEGIN:VEVENT
UID:20260422T044659CEST-133471ccUW@horsealert.local
DTSTAMP:20260422T020459Z
CATEGORIES:Horse Alerts
DESCRIPTION:Bet On Line With williamhill.com Mares' 'National Hunt' Maiden 
 Hurdle
DTSTART:20170413T152000
LOCATION:England
SUMMARY:Horse Racing:Bet On Line With williamhill.com Mares' 'National Hunt
 ' Maiden Hurdle
END:VEVENT
END:VCALENDAR
