BEGIN:VCALENDAR
VERSION:2.0
PRODID:-//horsealert.local//NONSGML kigkonsult.se iCalcreator 2.10.5//
CALSCALE:GREGORIAN
X-WR-TIMEZONE:Europe/Dublin
BEGIN:VTIMEZONE
TZID:Etc/GMT-1
BEGIN:STANDARD
DTSTART:20010101T000000
TZOFFSETFROM:+0100
TZOFFSETTO:+0100
TZNAME:GMT +01:00
END:STANDARD
END:VTIMEZONE
BEGIN:VEVENT
UID:20260422T044917CEST-12459bA5e3@horsealert.local
DTSTAMP:20260422T020417Z
CATEGORIES:Horse Alerts
DESCRIPTION:Follow RedcarRacing On Facebook & Twitter Apprentice Median Auc
 tion Maiden Stakes
DTSTART:20170410T175500
LOCATION:England
SUMMARY:Horse Racing:Follow RedcarRacing On Facebook & Twitter Apprentice M
 edian Auction Maiden Stakes
END:VEVENT
END:VCALENDAR
