BEGIN:VCALENDAR
VERSION:2.0
PRODID:-//horsealert.local//NONSGML kigkonsult.se iCalcreator 2.10.5//
CALSCALE:GREGORIAN
X-WR-TIMEZONE:Europe/Dublin
BEGIN:VTIMEZONE
TZID:Etc/GMT-1
BEGIN:STANDARD
DTSTART:20010101T000000
TZOFFSETFROM:+0100
TZOFFSETTO:+0100
TZNAME:GMT +01:00
END:STANDARD
END:VTIMEZONE
BEGIN:VEVENT
UID:20260422T044222CEST-7054D65s1p@horsealert.local
DTSTAMP:20260422T020422Z
CATEGORIES:Horse Alerts
DESCRIPTION:toteWIN Beat SP Last 5 Nationals Chase (Novices' Limited Handic
 ap)
DTSTART:20170408T153000
LOCATION:Wales
SUMMARY:Horse Racing:toteWIN Beat SP Last 5 Nationals Chase (Novices' Limit
 ed Handicap)
END:VEVENT
END:VCALENDAR
