BEGIN:VCALENDAR
VERSION:2.0
PRODID:-//horsealert.local//NONSGML kigkonsult.se iCalcreator 2.10.5//
CALSCALE:GREGORIAN
X-WR-TIMEZONE:Europe/Dublin
BEGIN:VTIMEZONE
TZID:Etc/GMT-1
BEGIN:STANDARD
DTSTART:20010101T000000
TZOFFSETFROM:+0100
TZOFFSETTO:+0100
TZNAME:GMT +01:00
END:STANDARD
END:VTIMEZONE
BEGIN:VEVENT
UID:20260422T044227CEST-0357U3ILXe@horsealert.local
DTSTAMP:20260422T020427Z
CATEGORIES:Horse Alerts
DESCRIPTION:Waterford & Tramore Racecourse Annual Members Handicap Chase (0
 -109)
DTSTART:20170409T165000
LOCATION:Eire
SUMMARY:Horse Racing:Waterford & Tramore Racecourse Annual Members Handicap
  Chase (0-109)
END:VEVENT
END:VCALENDAR
