BEGIN:VCALENDAR
VERSION:2.0
PRODID:-//horsealert.local//NONSGML kigkonsult.se iCalcreator 2.10.5//
CALSCALE:GREGORIAN
X-WR-TIMEZONE:Europe/Dublin
BEGIN:VTIMEZONE
TZID:Etc/GMT-1
BEGIN:STANDARD
DTSTART:20010101T000000
TZOFFSETFROM:+0100
TZOFFSETTO:+0100
TZNAME:GMT +01:00
END:STANDARD
END:VTIMEZONE
BEGIN:VEVENT
UID:20260422T043747CEST-9075fLFgvf@horsealert.local
DTSTAMP:20260422T020447Z
CATEGORIES:Horse Alerts
DESCRIPTION:Taunton Civil Service Sports Club Selling Handicap Hurdle
DTSTART:20170406T141000
LOCATION:England
SUMMARY:Horse Racing:Taunton Civil Service Sports Club Selling Handicap Hur
 dle
END:VEVENT
END:VCALENDAR
