BEGIN:VCALENDAR
VERSION:2.0
PRODID:-//horsealert.local//NONSGML kigkonsult.se iCalcreator 2.10.5//
CALSCALE:GREGORIAN
X-WR-TIMEZONE:Europe/Dublin
BEGIN:VTIMEZONE
TZID:Etc/GMT-1
BEGIN:STANDARD
DTSTART:20010101T000000
TZOFFSETFROM:+0100
TZOFFSETTO:+0100
TZNAME:GMT +01:00
END:STANDARD
END:VTIMEZONE
BEGIN:VEVENT
UID:20260422T044316CEST-6484NFVg8h@horsealert.local
DTSTAMP:20260422T020416Z
CATEGORIES:Horse Alerts
DESCRIPTION:Bet 10 Get 20 At 188Bet Open Hunters' Chase (For The John Dufos
 ee Memorial Trophy)
DTSTART:20170405T162500
LOCATION:England
SUMMARY:Horse Racing:Bet 10 Get 20 At 188Bet Open Hunters' Chase (For The J
 ohn Dufosee Memorial Trophy)
END:VEVENT
END:VCALENDAR
