BEGIN:VCALENDAR
VERSION:2.0
PRODID:-//horsealert.local//NONSGML kigkonsult.se iCalcreator 2.10.5//
CALSCALE:GREGORIAN
X-WR-TIMEZONE:Europe/Dublin
BEGIN:VTIMEZONE
TZID:Etc/GMT-1
BEGIN:STANDARD
DTSTART:20010101T000000
TZOFFSETFROM:+0100
TZOFFSETTO:+0100
TZNAME:GMT +01:00
END:STANDARD
END:VTIMEZONE
BEGIN:VEVENT
UID:20260422T043623CEST-2779pviRfl@horsealert.local
DTSTAMP:20260422T020423Z
CATEGORIES:Horse Alerts
DESCRIPTION:Live Casino At 188Bet Standard NH Flat Race (Conditionals And A
 mateurs)
DTSTART:20170403T172000
LOCATION:England
SUMMARY:Horse Racing:Live Casino At 188Bet Standard NH Flat Race (Condition
 als And Amateurs)
END:VEVENT
END:VCALENDAR
