BEGIN:VCALENDAR
VERSION:2.0
PRODID:-//horsealert.local//NONSGML kigkonsult.se iCalcreator 2.10.5//
CALSCALE:GREGORIAN
X-WR-TIMEZONE:Europe/Dublin
BEGIN:VTIMEZONE
TZID:Etc/GMT-1
BEGIN:STANDARD
DTSTART:20010101T000000
TZOFFSETFROM:+0100
TZOFFSETTO:+0100
TZNAME:GMT +01:00
END:STANDARD
END:VTIMEZONE
BEGIN:VEVENT
UID:20260422T043701CEST-1842aIen3V@horsealert.local
DTSTAMP:20260422T020401Z
CATEGORIES:Horse Alerts
DESCRIPTION:Edmond Blanc Group 3 Stakes
DTSTART:20170402T153000
LOCATION:France
SUMMARY:Horse Racing:Edmond Blanc Group 3 Stakes
END:VEVENT
END:VCALENDAR
