BEGIN:VCALENDAR
VERSION:2.0
PRODID:-//horsealert.local//NONSGML kigkonsult.se iCalcreator 2.10.5//
CALSCALE:GREGORIAN
X-WR-TIMEZONE:Europe/Dublin
BEGIN:VTIMEZONE
TZID:Etc/GMT-1
BEGIN:STANDARD
DTSTART:20010101T000000
TZOFFSETFROM:+0100
TZOFFSETTO:+0100
TZNAME:GMT +01:00
END:STANDARD
END:VTIMEZONE
BEGIN:VEVENT
UID:20260422T043621CEST-9115b33m9k@horsealert.local
DTSTAMP:20260422T020421Z
CATEGORIES:Horse Alerts
DESCRIPTION:Aquitaine Handicap
DTSTART:20170402T134500
LOCATION:France
SUMMARY:Horse Racing:Aquitaine Handicap
END:VEVENT
END:VCALENDAR
