BEGIN:VCALENDAR
VERSION:2.0
PRODID:-//horsealert.local//NONSGML kigkonsult.se iCalcreator 2.10.5//
CALSCALE:GREGORIAN
X-WR-TIMEZONE:Europe/Dublin
BEGIN:VTIMEZONE
TZID:Etc/GMT-1
BEGIN:STANDARD
DTSTART:20010101T000000
TZOFFSETFROM:+0100
TZOFFSETTO:+0100
TZNAME:GMT +01:00
END:STANDARD
END:VTIMEZONE
BEGIN:VEVENT
UID:20260422T060450CEST-6782v3JX0l@horsealert.local
DTSTAMP:20260422T040450Z
CATEGORIES:Horse Alerts
DESCRIPTION:Wear A Hat Day Supporting braintumourresearch.org Conditional J
 ockeys' Novices' Hurdle
DTSTART:20170331T142000
LOCATION:England
SUMMARY:Horse Racing:Wear A Hat Day Supporting braintumourresearch.org Cond
 itional Jockeys' Novices' Hurdle
END:VEVENT
END:VCALENDAR
