BEGIN:VCALENDAR
VERSION:2.0
PRODID:-//horsealert.local//NONSGML kigkonsult.se iCalcreator 2.10.5//
CALSCALE:GREGORIAN
X-WR-TIMEZONE:Europe/Dublin
BEGIN:VTIMEZONE
TZID:Etc/GMT-1
BEGIN:STANDARD
DTSTART:20010101T000000
TZOFFSETFROM:+0100
TZOFFSETTO:+0100
TZNAME:GMT +01:00
END:STANDARD
END:VTIMEZONE
BEGIN:VEVENT
UID:20260422T060135CEST-9278ucxCLe@horsealert.local
DTSTAMP:20260422T040435Z
CATEGORIES:Horse Alerts
DESCRIPTION:Oakley Coachbuilders Novices' Limited Handicap Chase (For The B
 rown Chamberlin Trophy)
DTSTART:20170324T154000
LOCATION:England
SUMMARY:Horse Racing:Oakley Coachbuilders Novices' Limited Handicap Chase (
 For The Brown Chamberlin Trophy)
END:VEVENT
END:VCALENDAR
