BEGIN:VCALENDAR
VERSION:2.0
PRODID:-//horsealert.local//NONSGML kigkonsult.se iCalcreator 2.10.5//
CALSCALE:GREGORIAN
X-WR-TIMEZONE:Europe/Dublin
BEGIN:VTIMEZONE
TZID:Etc/GMT-1
BEGIN:STANDARD
DTSTART:20010101T000000
TZOFFSETFROM:+0100
TZOFFSETTO:+0100
TZNAME:GMT +01:00
END:STANDARD
END:VTIMEZONE
BEGIN:VEVENT
UID:20260422T060449CEST-1544WRrI3V@horsealert.local
DTSTAMP:20260422T040449Z
CATEGORIES:Horse Alerts
DESCRIPTION:JCB Stephen Allday Perpetual Plate Chase (Novices' Limited Hand
 icap)
DTSTART:20170322T152000
LOCATION:England
SUMMARY:Horse Racing:JCB Stephen Allday Perpetual Plate Chase (Novices' Lim
 ited Handicap)
END:VEVENT
END:VCALENDAR
