BEGIN:VCALENDAR
VERSION:2.0
PRODID:-//horsealert.local//NONSGML kigkonsult.se iCalcreator 2.10.5//
CALSCALE:GREGORIAN
X-WR-TIMEZONE:Europe/Dublin
BEGIN:VTIMEZONE
TZID:Etc/GMT-1
BEGIN:STANDARD
DTSTART:20010101T000000
TZOFFSETFROM:+0100
TZOFFSETTO:+0100
TZNAME:GMT +01:00
END:STANDARD
END:VTIMEZONE
BEGIN:VEVENT
UID:20260422T060558CEST-7250UGz80D@horsealert.local
DTSTAMP:20260422T040458Z
CATEGORIES:Horse Alerts
DESCRIPTION:Compare Bookmakers At Bookmakers.co.uk Mares' Standard NH Flat 
 Race (Conditionals And Amateurs)
DTSTART:20170320T164000
LOCATION:England
SUMMARY:Horse Racing:Compare Bookmakers At Bookmakers.co.uk Mares' Standard
  NH Flat Race (Conditionals And Amateurs)
END:VEVENT
END:VCALENDAR
