BEGIN:VCALENDAR
VERSION:2.0
PRODID:-//horsealert.local//NONSGML kigkonsult.se iCalcreator 2.10.5//
CALSCALE:GREGORIAN
X-WR-TIMEZONE:Europe/Dublin
BEGIN:VTIMEZONE
TZID:Etc/GMT-1
BEGIN:STANDARD
DTSTART:20010101T000000
TZOFFSETFROM:+0100
TZOFFSETTO:+0100
TZNAME:GMT +01:00
END:STANDARD
END:VTIMEZONE
BEGIN:VEVENT
UID:20260422T060320CEST-9030gShNr2@horsealert.local
DTSTAMP:20260422T040420Z
CATEGORIES:Horse Alerts
DESCRIPTION:Buy Tickets Online For The 6th April Spin Southwest Student Rac
 eday Hurdle
DTSTART:20170318T141000
LOCATION:Eire
SUMMARY:Horse Racing:Buy Tickets Online For The 6th April Spin Southwest St
 udent Raceday Hurdle
END:VEVENT
END:VCALENDAR
