BEGIN:VCALENDAR
VERSION:2.0
PRODID:-//horsealert.local//NONSGML kigkonsult.se iCalcreator 2.10.5//
CALSCALE:GREGORIAN
X-WR-TIMEZONE:Europe/Dublin
BEGIN:VTIMEZONE
TZID:Etc/GMT-1
BEGIN:STANDARD
DTSTART:20010101T000000
TZOFFSETFROM:+0100
TZOFFSETTO:+0100
TZNAME:GMT +01:00
END:STANDARD
END:VTIMEZONE
BEGIN:VEVENT
UID:20260422T060325CEST-6483mBtb0G@horsealert.local
DTSTAMP:20260422T040425Z
CATEGORIES:Horse Alerts
DESCRIPTION:bookies.com No Deposit Free Bet Handicap Chase
DTSTART:20170314T163500
LOCATION:England
SUMMARY:Horse Racing:bookies.com No Deposit Free Bet Handicap Chase
END:VEVENT
END:VCALENDAR
