BEGIN:VCALENDAR
VERSION:2.0
PRODID:-//horsealert.local//NONSGML kigkonsult.se iCalcreator 2.10.5//
CALSCALE:GREGORIAN
X-WR-TIMEZONE:Europe/Dublin
BEGIN:VTIMEZONE
TZID:Etc/GMT-1
BEGIN:STANDARD
DTSTART:20010101T000000
TZOFFSETFROM:+0100
TZOFFSETTO:+0100
TZNAME:GMT +01:00
END:STANDARD
END:VTIMEZONE
BEGIN:VEVENT
UID:20260422T060131CEST-6066rr0V1R@horsealert.local
DTSTAMP:20260422T040431Z
CATEGORIES:Horse Alerts
DESCRIPTION:Watch Cheltenham Festival Live On winner.co.uk Median Auction M
 aiden Stakes
DTSTART:20170313T195000
LOCATION:England
SUMMARY:Horse Racing:Watch Cheltenham Festival Live On winner.co.uk Median 
 Auction Maiden Stakes
END:VEVENT
END:VCALENDAR
