BEGIN:VCALENDAR
VERSION:2.0
PRODID:-//horsealert.local//NONSGML kigkonsult.se iCalcreator 2.10.5//
CALSCALE:GREGORIAN
X-WR-TIMEZONE:Europe/Dublin
BEGIN:VTIMEZONE
TZID:Etc/GMT-1
BEGIN:STANDARD
DTSTART:20010101T000000
TZOFFSETFROM:+0100
TZOFFSETTO:+0100
TZNAME:GMT +01:00
END:STANDARD
END:VTIMEZONE
BEGIN:VEVENT
UID:20260422T060559CEST-7099BFmxCs@horsealert.local
DTSTAMP:20260422T040459Z
CATEGORIES:Horse Alerts
DESCRIPTION:188Bet Odds In Pricewise 'National Hunt' Novices' Hurdle
DTSTART:20170311T171000
LOCATION:England
SUMMARY:Horse Racing:188Bet Odds In Pricewise 'National Hunt' Novices' Hurd
 le
END:VEVENT
END:VCALENDAR
