BEGIN:VCALENDAR
VERSION:2.0
PRODID:-//horsealert.local//NONSGML kigkonsult.se iCalcreator 2.10.5//
CALSCALE:GREGORIAN
X-WR-TIMEZONE:Europe/Dublin
BEGIN:VTIMEZONE
TZID:Etc/GMT-1
BEGIN:STANDARD
DTSTART:20010101T000000
TZOFFSETFROM:+0100
TZOFFSETTO:+0100
TZNAME:GMT +01:00
END:STANDARD
END:VTIMEZONE
BEGIN:VEVENT
UID:20260422T060605CEST-9376cj1Aoo@horsealert.local
DTSTAMP:20260422T040405Z
CATEGORIES:Horse Alerts
DESCRIPTION:Six Nations Rugby At 188Bet Chase (Novices' Limited Handicap)
DTSTART:20170311T145000
LOCATION:England
SUMMARY:Horse Racing:Six Nations Rugby At 188Bet Chase (Novices' Limited Ha
 ndicap)
END:VEVENT
END:VCALENDAR
