BEGIN:VCALENDAR
VERSION:2.0
PRODID:-//horsealert.local//NONSGML kigkonsult.se iCalcreator 2.10.5//
CALSCALE:GREGORIAN
X-WR-TIMEZONE:Europe/Dublin
BEGIN:VTIMEZONE
TZID:Etc/GMT-1
BEGIN:STANDARD
DTSTART:20010101T000000
TZOFFSETFROM:+0100
TZOFFSETTO:+0100
TZNAME:GMT +01:00
END:STANDARD
END:VTIMEZONE
BEGIN:VEVENT
UID:20260422T060623CEST-14971US4PF@horsealert.local
DTSTAMP:20260422T040423Z
CATEGORIES:Horse Alerts
DESCRIPTION:Heverlee Mares' Handicap Hurdle (For The Ayrshire Yeomanry Cup)
DTSTART:20170311T163000
LOCATION:Scotland
SUMMARY:Horse Racing:Heverlee Mares' Handicap Hurdle (For The Ayrshire Yeom
 anry Cup)
END:VEVENT
END:VCALENDAR
