BEGIN:VCALENDAR
VERSION:2.0
PRODID:-//horsealert.local//NONSGML kigkonsult.se iCalcreator 2.10.5//
CALSCALE:GREGORIAN
X-WR-TIMEZONE:Europe/Dublin
BEGIN:VTIMEZONE
TZID:Etc/GMT-1
BEGIN:STANDARD
DTSTART:20010101T000000
TZOFFSETFROM:+0100
TZOFFSETTO:+0100
TZNAME:GMT +01:00
END:STANDARD
END:VTIMEZONE
BEGIN:VEVENT
UID:20260422T060027CEST-3027XCu76J@horsealert.local
DTSTAMP:20260422T040427Z
CATEGORIES:Horse Alerts
DESCRIPTION:All 28 Cheltenham Races On RacingUK Handicap Hurdle (For The Ja
 mes Barclay Challenge Trophy)
DTSTART:20170310T155500
LOCATION:Scotland
SUMMARY:Horse Racing:All 28 Cheltenham Races On RacingUK Handicap Hurdle (F
 or The James Barclay Challenge Trophy)
END:VEVENT
END:VCALENDAR
