BEGIN:VCALENDAR
VERSION:2.0
PRODID:-//horsealert.local//NONSGML kigkonsult.se iCalcreator 2.10.5//
CALSCALE:GREGORIAN
X-WR-TIMEZONE:Europe/Dublin
BEGIN:VTIMEZONE
TZID:Etc/GMT-1
BEGIN:STANDARD
DTSTART:20010101T000000
TZOFFSETFROM:+0100
TZOFFSETTO:+0100
TZNAME:GMT +01:00
END:STANDARD
END:VTIMEZONE
BEGIN:VEVENT
UID:20260422T060110CEST-3358vuZKIp@horsealert.local
DTSTAMP:20260422T040410Z
CATEGORIES:Horse Alerts
DESCRIPTION:grandnational2017.com Chase (Novices' Limited Handicap)
DTSTART:20170306T140000
LOCATION:England
SUMMARY:Horse Racing:grandnational2017.com Chase (Novices' Limited Handicap
 )
END:VEVENT
END:VCALENDAR
