BEGIN:VCALENDAR
VERSION:2.0
PRODID:-//horsealert.local//NONSGML kigkonsult.se iCalcreator 2.10.5//
CALSCALE:GREGORIAN
X-WR-TIMEZONE:Europe/Dublin
BEGIN:VTIMEZONE
TZID:Etc/GMT-1
BEGIN:STANDARD
DTSTART:20010101T000000
TZOFFSETFROM:+0100
TZOFFSETTO:+0100
TZNAME:GMT +01:00
END:STANDARD
END:VTIMEZONE
BEGIN:VEVENT
UID:20260422T060606CEST-7628WEk9Mv@horsealert.local
DTSTAMP:20260422T040406Z
CATEGORIES:Horse Alerts
DESCRIPTION:Free Horse Racing Tips At tipsterreviews.co.uk Standard Open NH
  Flat Race (AW)
DTSTART:20170306T142000
LOCATION:England
SUMMARY:Horse Racing:Free Horse Racing Tips At tipsterreviews.co.uk Standar
 d Open NH Flat Race (AW)
END:VEVENT
END:VCALENDAR
