BEGIN:VCALENDAR
VERSION:2.0
PRODID:-//horsealert.local//NONSGML kigkonsult.se iCalcreator 2.10.5//
CALSCALE:GREGORIAN
X-WR-TIMEZONE:Europe/Dublin
BEGIN:VTIMEZONE
TZID:Etc/GMT-1
BEGIN:STANDARD
DTSTART:20010101T000000
TZOFFSETFROM:+0100
TZOFFSETTO:+0100
TZNAME:GMT +01:00
END:STANDARD
END:VTIMEZONE
BEGIN:VEVENT
UID:20260422T060136CEST-20386WD7UJ@horsealert.local
DTSTAMP:20260422T040436Z
CATEGORIES:Horse Alerts
DESCRIPTION:William Hill 'High 5' Supporting Greatwood Gold Cup Handicap Ch
 ase (Grade 3)
DTSTART:20170304T151500
LOCATION:England
SUMMARY:Horse Racing:William Hill 'High 5' Supporting Greatwood Gold Cup Ha
 ndicap Chase (Grade 3)
END:VEVENT
END:VCALENDAR
