BEGIN:VCALENDAR
VERSION:2.0
PRODID:-//horsealert.local//NONSGML kigkonsult.se iCalcreator 2.10.5//
CALSCALE:GREGORIAN
X-WR-TIMEZONE:Europe/Dublin
BEGIN:VTIMEZONE
TZID:Etc/GMT-1
BEGIN:STANDARD
DTSTART:20010101T000000
TZOFFSETFROM:+0100
TZOFFSETTO:+0100
TZNAME:GMT +01:00
END:STANDARD
END:VTIMEZONE
BEGIN:VEVENT
UID:20260422T060108CEST-9904o1Jxus@horsealert.local
DTSTAMP:20260422T040408Z
CATEGORIES:Horse Alerts
DESCRIPTION:Berry Bros & Rudd Handicap Chase
DTSTART:20170303T151500
LOCATION:England
SUMMARY:Horse Racing:Berry Bros & Rudd Handicap Chase
END:VEVENT
END:VCALENDAR
