BEGIN:VCALENDAR
VERSION:2.0
PRODID:-//horsealert.local//NONSGML kigkonsult.se iCalcreator 2.10.5//
CALSCALE:GREGORIAN
X-WR-TIMEZONE:Europe/Dublin
BEGIN:VTIMEZONE
TZID:Etc/GMT-1
BEGIN:STANDARD
DTSTART:20010101T000000
TZOFFSETFROM:+0100
TZOFFSETTO:+0100
TZNAME:GMT +01:00
END:STANDARD
END:VTIMEZONE
BEGIN:VEVENT
UID:20260422T060213CEST-0625Pc8iOu@horsealert.local
DTSTAMP:20260422T040413Z
CATEGORIES:Horse Alerts
DESCRIPTION:totepoolliveinfo.com Visit For Racing Results Conditions Stakes
DTSTART:20170302T192500
LOCATION:England
SUMMARY:Horse Racing:totepoolliveinfo.com Visit For Racing Results Conditio
 ns Stakes
END:VEVENT
END:VCALENDAR
