BEGIN:VCALENDAR
VERSION:2.0
PRODID:-//horsealert.local//NONSGML kigkonsult.se iCalcreator 2.10.5//
CALSCALE:GREGORIAN
X-WR-TIMEZONE:Europe/Dublin
BEGIN:VTIMEZONE
TZID:Etc/GMT-1
BEGIN:STANDARD
DTSTART:20010101T000000
TZOFFSETFROM:+0100
TZOFFSETTO:+0100
TZNAME:GMT +01:00
END:STANDARD
END:VTIMEZONE
BEGIN:VEVENT
UID:20260422T073530CEST-5336deCplp@horsealert.local
DTSTAMP:20260422T050430Z
CATEGORIES:Horse Alerts
DESCRIPTION:Free Bet At 188Bet 'Hands And Heels' Handicap Hurdle (Condition
 als And Amateurs)
DTSTART:20170224T161000
LOCATION:England
SUMMARY:Horse Racing:Free Bet At 188Bet 'Hands And Heels' Handicap Hurdle (
 Conditionals And Amateurs)
END:VEVENT
END:VCALENDAR
