BEGIN:VCALENDAR
VERSION:2.0
PRODID:-//horsealert.local//NONSGML kigkonsult.se iCalcreator 2.10.5//
CALSCALE:GREGORIAN
X-WR-TIMEZONE:Europe/Dublin
BEGIN:VTIMEZONE
TZID:Etc/GMT-1
BEGIN:STANDARD
DTSTART:20010101T000000
TZOFFSETFROM:+0100
TZOFFSETTO:+0100
TZNAME:GMT +01:00
END:STANDARD
END:VTIMEZONE
BEGIN:VEVENT
UID:20260422T073751CEST-1428VVZT77@horsealert.local
DTSTAMP:20260422T050451Z
CATEGORIES:Horse Alerts
DESCRIPTION:188bet.co.uk John Bigg Oxo Handicap Chase (For The John Bigg Ox
 o Trophy)
DTSTART:20170223T154500
LOCATION:England
SUMMARY:Horse Racing:188bet.co.uk John Bigg Oxo Handicap Chase (For The Joh
 n Bigg Oxo Trophy)
END:VEVENT
END:VCALENDAR
