BEGIN:VCALENDAR
VERSION:2.0
PRODID:-//horsealert.local//NONSGML kigkonsult.se iCalcreator 2.10.5//
CALSCALE:GREGORIAN
X-WR-TIMEZONE:Europe/Dublin
BEGIN:VTIMEZONE
TZID:Etc/GMT-1
BEGIN:STANDARD
DTSTART:20010101T000000
TZOFFSETFROM:+0100
TZOFFSETTO:+0100
TZNAME:GMT +01:00
END:STANDARD
END:VTIMEZONE
BEGIN:VEVENT
UID:20260422T073531CEST-8412E8OocJ@horsealert.local
DTSTAMP:20260422T050431Z
CATEGORIES:Horse Alerts
DESCRIPTION:UB40 In Concert Here 11th June Standard NH Flat Race (Condition
 als And Amateurs)
DTSTART:20170221T172000
LOCATION:England
SUMMARY:Horse Racing:UB40 In Concert Here 11th June Standard NH Flat Race (
 Conditionals And Amateurs)
END:VEVENT
END:VCALENDAR
