BEGIN:VCALENDAR
VERSION:2.0
PRODID:-//horsealert.local//NONSGML kigkonsult.se iCalcreator 2.10.5//
CALSCALE:GREGORIAN
X-WR-TIMEZONE:Europe/Dublin
BEGIN:VTIMEZONE
TZID:Etc/GMT-1
BEGIN:STANDARD
DTSTART:20010101T000000
TZOFFSETFROM:+0100
TZOFFSETTO:+0100
TZNAME:GMT +01:00
END:STANDARD
END:VTIMEZONE
BEGIN:VEVENT
UID:20260422T073732CEST-8814EvL5Di@horsealert.local
DTSTAMP:20260422T050432Z
CATEGORIES:Horse Alerts
DESCRIPTION:Today's Racing Just 10.00 Mares' Standard Open NH Flat Race
DTSTART:20170221T170000
LOCATION:England
SUMMARY:Horse Racing:Today's Racing Just 10.00 Mares' Standard Open NH Flat
  Race
END:VEVENT
END:VCALENDAR
