BEGIN:VCALENDAR
VERSION:2.0
PRODID:-//horsealert.local//NONSGML kigkonsult.se iCalcreator 2.10.5//
CALSCALE:GREGORIAN
X-WR-TIMEZONE:Europe/Dublin
BEGIN:VTIMEZONE
TZID:Etc/GMT-1
BEGIN:STANDARD
DTSTART:20010101T000000
TZOFFSETFROM:+0100
TZOFFSETTO:+0100
TZNAME:GMT +01:00
END:STANDARD
END:VTIMEZONE
BEGIN:VEVENT
UID:20260422T073645CEST-9470PifsEH@horsealert.local
DTSTAMP:20260422T050445Z
CATEGORIES:Horse Alerts
DESCRIPTION:Demesne Mares Maiden Hurdle
DTSTART:20170216T142000
LOCATION:Eire
SUMMARY:Horse Racing:Demesne Mares Maiden Hurdle
END:VEVENT
END:VCALENDAR
