BEGIN:VCALENDAR
VERSION:2.0
PRODID:-//horsealert.local//NONSGML kigkonsult.se iCalcreator 2.10.5//
CALSCALE:GREGORIAN
X-WR-TIMEZONE:Europe/Dublin
BEGIN:VTIMEZONE
TZID:Etc/GMT-1
BEGIN:STANDARD
DTSTART:20010101T000000
TZOFFSETFROM:+0100
TZOFFSETTO:+0100
TZNAME:GMT +01:00
END:STANDARD
END:VTIMEZONE
BEGIN:VEVENT
UID:20260422T074305CEST-5157UPnu8Z@horsealert.local
DTSTAMP:20260422T050405Z
CATEGORIES:Horse Alerts
DESCRIPTION:Betway Marathon All Weather 'Hands And Heels' Series Apprentice
  Handicap
DTSTART:20170215T140000
LOCATION:England
SUMMARY:Horse Racing:Betway Marathon All Weather 'Hands And Heels' Series A
 pprentice Handicap
END:VEVENT
END:VCALENDAR
