BEGIN:VCALENDAR
VERSION:2.0
PRODID:-//horsealert.local//NONSGML kigkonsult.se iCalcreator 2.10.5//
CALSCALE:GREGORIAN
X-WR-TIMEZONE:Europe/Dublin
BEGIN:VTIMEZONE
TZID:Etc/GMT-1
BEGIN:STANDARD
DTSTART:20010101T000000
TZOFFSETFROM:+0100
TZOFFSETTO:+0100
TZNAME:GMT +01:00
END:STANDARD
END:VTIMEZONE
BEGIN:VEVENT
UID:20260422T073531CEST-2354U6wnaJ@horsealert.local
DTSTAMP:20260422T050431Z
CATEGORIES:Horse Alerts
DESCRIPTION:Andorran (Chartered Accountants) Chase (Novices' Limited Handic
 ap)
DTSTART:20170207T162000
LOCATION:England
SUMMARY:Horse Racing:Andorran (Chartered Accountants) Chase (Novices' Limit
 ed Handicap)
END:VEVENT
END:VCALENDAR
