BEGIN:VCALENDAR
VERSION:2.0
PRODID:-//horsealert.local//NONSGML kigkonsult.se iCalcreator 2.10.5//
CALSCALE:GREGORIAN
X-WR-TIMEZONE:Europe/Dublin
BEGIN:VTIMEZONE
TZID:Etc/GMT-1
BEGIN:STANDARD
DTSTART:20010101T000000
TZOFFSETFROM:+0100
TZOFFSETTO:+0100
TZNAME:GMT +01:00
END:STANDARD
END:VTIMEZONE
BEGIN:VEVENT
UID:20260422T073710CEST-508631zRN6@horsealert.local
DTSTAMP:20260422T050410Z
CATEGORIES:Horse Alerts
DESCRIPTION:188bet.co.uk Conditional Jockeys' Training Handicap Hurdle (Par
 t Of The Racing Excellence Initiative)
DTSTART:20170207T141000
LOCATION:England
SUMMARY:Horse Racing:188bet.co.uk Conditional Jockeys' Training Handicap Hu
 rdle (Part Of The Racing Excellence Initiative)
END:VEVENT
END:VCALENDAR
