BEGIN:VCALENDAR
VERSION:2.0
PRODID:-//horsealert.local//NONSGML kigkonsult.se iCalcreator 2.10.5//
CALSCALE:GREGORIAN
X-WR-TIMEZONE:Europe/Dublin
BEGIN:VTIMEZONE
TZID:Etc/GMT-1
BEGIN:STANDARD
DTSTART:20010101T000000
TZOFFSETFROM:+0100
TZOFFSETTO:+0100
TZNAME:GMT +01:00
END:STANDARD
END:VTIMEZONE
BEGIN:VEVENT
UID:20260422T073513CEST-02574XHB2l@horsealert.local
DTSTAMP:20260422T050413Z
CATEGORIES:Horse Alerts
DESCRIPTION:racinguk.com/freetrial Grand National Trial Handicap Chase (Gra
 de B)
DTSTART:20170205T160000
LOCATION:Eire
SUMMARY:Horse Racing:racinguk.com/freetrial Grand National Trial Handicap C
 hase (Grade B)
END:VEVENT
END:VCALENDAR
