BEGIN:VCALENDAR
VERSION:2.0
PRODID:-//horsealert.local//NONSGML kigkonsult.se iCalcreator 2.10.5//
CALSCALE:GREGORIAN
X-WR-TIMEZONE:Europe/Dublin
BEGIN:VTIMEZONE
TZID:Etc/GMT-1
BEGIN:STANDARD
DTSTART:20010101T000000
TZOFFSETFROM:+0100
TZOFFSETTO:+0100
TZNAME:GMT +01:00
END:STANDARD
END:VTIMEZONE
BEGIN:VEVENT
UID:20260422T074450CEST-7407bZP1pv@horsealert.local
DTSTAMP:20260422T050450Z
CATEGORIES:Horse Alerts
DESCRIPTION:Micro Dog ID Maiden Hunters Chase
DTSTART:20170202T164000
LOCATION:Eire
SUMMARY:Horse Racing:Micro Dog ID Maiden Hunters Chase
END:VEVENT
END:VCALENDAR
