BEGIN:VCALENDAR
VERSION:2.0
PRODID:-//horsealert.local//NONSGML kigkonsult.se iCalcreator 2.10.5//
CALSCALE:GREGORIAN
X-WR-TIMEZONE:Europe/Dublin
BEGIN:VTIMEZONE
TZID:Etc/GMT-1
BEGIN:STANDARD
DTSTART:20010101T000000
TZOFFSETFROM:+0100
TZOFFSETTO:+0100
TZNAME:GMT +01:00
END:STANDARD
END:VTIMEZONE
BEGIN:VEVENT
UID:20260422T091022CEST-3912uU7Bku@horsealert.local
DTSTAMP:20260422T070422Z
CATEGORIES:Horse Alerts
DESCRIPTION:Hugo's Restaurant Barbados Trophy Handicap Chase (Grade 3)
DTSTART:20170128T131000
LOCATION:England
SUMMARY:Horse Racing:Hugo's Restaurant Barbados Trophy Handicap Chase (Grad
 e 3)
END:VEVENT
END:VCALENDAR
