BEGIN:VCALENDAR
VERSION:2.0
PRODID:-//horsealert.local//NONSGML kigkonsult.se iCalcreator 2.10.5//
CALSCALE:GREGORIAN
X-WR-TIMEZONE:Europe/Dublin
BEGIN:VTIMEZONE
TZID:Etc/GMT-1
BEGIN:STANDARD
DTSTART:20010101T000000
TZOFFSETFROM:+0100
TZOFFSETTO:+0100
TZNAME:GMT +01:00
END:STANDARD
END:VTIMEZONE
BEGIN:VEVENT
UID:20260422T090740CEST-4413fu8OvW@horsealert.local
DTSTAMP:20260422T070440Z
CATEGORIES:Horse Alerts
DESCRIPTION:3rd March Preview Evening Handicap Chase
DTSTART:20170122T155000
LOCATION:England
SUMMARY:Horse Racing:3rd March Preview Evening Handicap Chase
END:VEVENT
END:VCALENDAR
